BEGIN:VCALENDAR
VERSION:2.0
PRODID:-//Gemeindeverwaltung Neunforn - ECPv6.15.20//NONSGML v1.0//EN
CALSCALE:GREGORIAN
METHOD:PUBLISH
X-ORIGINAL-URL:https://www.neunforn.ch
X-WR-CALDESC:Veranstaltungen für Gemeindeverwaltung Neunforn
REFRESH-INTERVAL;VALUE=DURATION:PT1H
X-Robots-Tag:noindex
X-PUBLISHED-TTL:PT1H
BEGIN:VTIMEZONE
TZID:Europe/Zurich
BEGIN:DAYLIGHT
TZOFFSETFROM:+0100
TZOFFSETTO:+0200
TZNAME:CEST
DTSTART:20180325T010000
END:DAYLIGHT
BEGIN:STANDARD
TZOFFSETFROM:+0200
TZOFFSETTO:+0100
TZNAME:CET
DTSTART:20181028T010000
END:STANDARD
BEGIN:DAYLIGHT
TZOFFSETFROM:+0100
TZOFFSETTO:+0200
TZNAME:CEST
DTSTART:20190331T010000
END:DAYLIGHT
BEGIN:STANDARD
TZOFFSETFROM:+0200
TZOFFSETTO:+0100
TZNAME:CET
DTSTART:20191027T010000
END:STANDARD
BEGIN:DAYLIGHT
TZOFFSETFROM:+0100
TZOFFSETTO:+0200
TZNAME:CEST
DTSTART:20200329T010000
END:DAYLIGHT
BEGIN:STANDARD
TZOFFSETFROM:+0200
TZOFFSETTO:+0100
TZNAME:CET
DTSTART:20201025T010000
END:STANDARD
END:VTIMEZONE
BEGIN:VEVENT
DTSTART;TZID=Europe/Zurich:20190427T133000
DTEND;TZID=Europe/Zurich:20190427T160000
DTSTAMP:20260424T090108
CREATED:20190402T115630Z
LAST-MODIFIED:20190402T115630Z
UID:6926-1556371800-1556380800@www.neunforn.ch
SUMMARY:Tag der offenen Schützenhauser
DESCRIPTION:FSG Niederneunforn und FSG Oberneunforn
URL:https://www.neunforn.ch/veranstaltung/tag-der-offenen-schuetzenhauser/
END:VEVENT
END:VCALENDAR