BEGIN:VCALENDAR
VERSION:2.0
PRODID:-//Gemeindeverwaltung Neunforn - ECPv6.15.20//NONSGML v1.0//EN
CALSCALE:GREGORIAN
METHOD:PUBLISH
X-ORIGINAL-URL:https://www.neunforn.ch
X-WR-CALDESC:Veranstaltungen für Gemeindeverwaltung Neunforn
REFRESH-INTERVAL;VALUE=DURATION:PT1H
X-Robots-Tag:noindex
X-PUBLISHED-TTL:PT1H
BEGIN:VTIMEZONE
TZID:Europe/Zurich
BEGIN:DAYLIGHT
TZOFFSETFROM:+0100
TZOFFSETTO:+0200
TZNAME:CEST
DTSTART:20180325T010000
END:DAYLIGHT
BEGIN:STANDARD
TZOFFSETFROM:+0200
TZOFFSETTO:+0100
TZNAME:CET
DTSTART:20181028T010000
END:STANDARD
BEGIN:DAYLIGHT
TZOFFSETFROM:+0100
TZOFFSETTO:+0200
TZNAME:CEST
DTSTART:20190331T010000
END:DAYLIGHT
BEGIN:STANDARD
TZOFFSETFROM:+0200
TZOFFSETTO:+0100
TZNAME:CET
DTSTART:20191027T010000
END:STANDARD
BEGIN:DAYLIGHT
TZOFFSETFROM:+0100
TZOFFSETTO:+0200
TZNAME:CEST
DTSTART:20200329T010000
END:DAYLIGHT
BEGIN:STANDARD
TZOFFSETFROM:+0200
TZOFFSETTO:+0100
TZNAME:CET
DTSTART:20201025T010000
END:STANDARD
END:VTIMEZONE
BEGIN:VEVENT
DTSTART;TZID=Europe/Zurich:20190922T100000
DTEND;TZID=Europe/Zurich:20190922T160000
DTSTAMP:20260420T015754
CREATED:20190404T090332Z
LAST-MODIFIED:20190404T090332Z
UID:6994-1569146400-1569168000@www.neunforn.ch
SUMMARY:Zürcher Sportfest
DESCRIPTION:Das Zürcher Sportfest ist ein Breitensportanlass für Gross und Klein. Verschiedene Sportarten und Spiele können ausprobiert werden und die Sportvereine der Umgebung stellen ihr Angebot vor. Zudem findet auch der Traditionsreiche Zürcher OL zusammen mit dem Zürcher Sportfest statt. Die Teilnahme am Sportfest ist gratis und alle Posten können gratis absolviert werden. Einzig die Teilnahme am Zürcher OL ist kostenpflichtig.
URL:https://www.neunforn.ch/veranstaltung/zuercher-sportfest/
LOCATION:Oberstufe Stammheim\, Bahnhofstrasse 7\, Unterstammheim\, 8476
ORGANIZER;CN="Sportamt Kanton Z%C3%BCrich":MAILTO:info@sport.zh.ch
END:VEVENT
END:VCALENDAR