BEGIN:VCALENDAR
VERSION:2.0
PRODID:-//Gemeindeverwaltung Neunforn - ECPv6.15.20//NONSGML v1.0//EN
CALSCALE:GREGORIAN
METHOD:PUBLISH
X-ORIGINAL-URL:https://www.neunforn.ch
X-WR-CALDESC:Veranstaltungen für Gemeindeverwaltung Neunforn
REFRESH-INTERVAL;VALUE=DURATION:PT1H
X-Robots-Tag:noindex
X-PUBLISHED-TTL:PT1H
BEGIN:VTIMEZONE
TZID:Europe/Zurich
BEGIN:DAYLIGHT
TZOFFSETFROM:+0100
TZOFFSETTO:+0200
TZNAME:CEST
DTSTART:20180325T010000
END:DAYLIGHT
BEGIN:STANDARD
TZOFFSETFROM:+0200
TZOFFSETTO:+0100
TZNAME:CET
DTSTART:20181028T010000
END:STANDARD
BEGIN:DAYLIGHT
TZOFFSETFROM:+0100
TZOFFSETTO:+0200
TZNAME:CEST
DTSTART:20190331T010000
END:DAYLIGHT
BEGIN:STANDARD
TZOFFSETFROM:+0200
TZOFFSETTO:+0100
TZNAME:CET
DTSTART:20191027T010000
END:STANDARD
BEGIN:DAYLIGHT
TZOFFSETFROM:+0100
TZOFFSETTO:+0200
TZNAME:CEST
DTSTART:20200329T010000
END:DAYLIGHT
BEGIN:STANDARD
TZOFFSETFROM:+0200
TZOFFSETTO:+0100
TZNAME:CET
DTSTART:20201025T010000
END:STANDARD
END:VTIMEZONE
BEGIN:VEVENT
DTSTART;TZID=Europe/Zurich:20191111T085000
DTEND;TZID=Europe/Zurich:20191111T085000
DTSTAMP:20260423T070527
CREATED:20190617T093110Z
LAST-MODIFIED:20190617T093110Z
UID:7158-1573462200-1573462200@www.neunforn.ch
SUMMARY:Wanderung "von Brücke zu Brücke/Thur"
DESCRIPTION:Treffpunkt: 08:50 Uhr Bahnhof Ossingen\, Abfahrt: 09:06 Uhr\, Rückkehr (individuell): ca. 16:00 Uhr\nWanderroute: Rohrerbrücke Warth – Uesslingerbrücke\nWanderzeit: ca. 1 h (keine Steigung)\nMittagessen: Rest. Engel\, Uesslingen \nAnmeldung an: Margrith Habenberger\, 052 747 11 94/ margrith-habenberger@hotmail.com\nbis Freitagabend
URL:https://www.neunforn.ch/veranstaltung/wanderung-von-bruecke-zu-bruecke-thur/
LOCATION:Bahnhof Ossingen\, Ossingen
ORGANIZER;CN="Senioren Wandergruppe_Habenberger":MAILTO:margrith-habenberger@hotmail.com
END:VEVENT
END:VCALENDAR