BEGIN:VCALENDAR
VERSION:2.0
PRODID:-//Gemeindeverwaltung Neunforn - ECPv6.15.20//NONSGML v1.0//EN
CALSCALE:GREGORIAN
METHOD:PUBLISH
X-ORIGINAL-URL:https://www.neunforn.ch
X-WR-CALDESC:Veranstaltungen für Gemeindeverwaltung Neunforn
REFRESH-INTERVAL;VALUE=DURATION:PT1H
X-Robots-Tag:noindex
X-PUBLISHED-TTL:PT1H
BEGIN:VTIMEZONE
TZID:Europe/Zurich
BEGIN:DAYLIGHT
TZOFFSETFROM:+0100
TZOFFSETTO:+0200
TZNAME:CEST
DTSTART:20180325T010000
END:DAYLIGHT
BEGIN:STANDARD
TZOFFSETFROM:+0200
TZOFFSETTO:+0100
TZNAME:CET
DTSTART:20181028T010000
END:STANDARD
BEGIN:DAYLIGHT
TZOFFSETFROM:+0100
TZOFFSETTO:+0200
TZNAME:CEST
DTSTART:20190331T010000
END:DAYLIGHT
BEGIN:STANDARD
TZOFFSETFROM:+0200
TZOFFSETTO:+0100
TZNAME:CET
DTSTART:20191027T010000
END:STANDARD
BEGIN:DAYLIGHT
TZOFFSETFROM:+0100
TZOFFSETTO:+0200
TZNAME:CEST
DTSTART:20200329T010000
END:DAYLIGHT
BEGIN:STANDARD
TZOFFSETFROM:+0200
TZOFFSETTO:+0100
TZNAME:CET
DTSTART:20201025T010000
END:STANDARD
BEGIN:DAYLIGHT
TZOFFSETFROM:+0100
TZOFFSETTO:+0200
TZNAME:CEST
DTSTART:20210328T010000
END:DAYLIGHT
BEGIN:STANDARD
TZOFFSETFROM:+0200
TZOFFSETTO:+0100
TZNAME:CET
DTSTART:20211031T010000
END:STANDARD
END:VTIMEZONE
BEGIN:VEVENT
DTSTART;VALUE=DATE:20191203
DTEND;VALUE=DATE:20191204
DTSTAMP:20260422T215952
CREATED:20190905T100142Z
LAST-MODIFIED:20190905T100142Z
UID:7269-1575331200-1575417599@www.neunforn.ch
SUMMARY:Ausserordentliche Schulgemeindeversammlung
DESCRIPTION:
URL:https://www.neunforn.ch/veranstaltung/ausserordentliche-schulgemeindeversammlung/
LOCATION:Schulhaus Rietacker\, Oberneunforn\, 8526
END:VEVENT
BEGIN:VEVENT
DTSTART;TZID=Europe/Zurich:20191211T173000
DTEND;TZID=Europe/Zurich:20191211T200000
DTSTAMP:20260422T215952
CREATED:20190327T083853Z
LAST-MODIFIED:20190327T083853Z
UID:6887-1576085400-1576094400@www.neunforn.ch
SUMMARY:Blutspenden
DESCRIPTION:
URL:https://www.neunforn.ch/veranstaltung/blutspenden-2/
LOCATION:Schulhaus Waltalingen\, Mülibachstrasse 18\, Waltalingen\, 8468
END:VEVENT
BEGIN:VEVENT
DTSTART;TZID=Europe/Zurich:20191214T103000
DTEND;TZID=Europe/Zurich:20191214T120000
DTSTAMP:20260422T215952
CREATED:20190327T082214Z
LAST-MODIFIED:20190327T082214Z
UID:6858-1576319400-1576324800@www.neunforn.ch
SUMMARY:Gemeindestammtisch
DESCRIPTION:Der Gemeinderat lädt einmal monatlich zum Gespräch und zu einem kleinen Apéro ein. Nutzen Sie diese Gelegenheit um Anregungen oder persönliche Anliegen mit dem Gemeinderat zu besprechen. Eine Anmeldung ist nicht notwendig. Der Stammtisch findet wie folgt statt: \nOrt: Gemeindekanzlei Neunforn\, 8526 Oberneunforn\nZeit: 10.30 Uhr bis ca. 12.00 Uhr
URL:https://www.neunforn.ch/veranstaltung/gemeindestammtisch-2-2-2-2-2-2-3/
LOCATION:Gemeindehaus\, Bachstrasse 2\, Oberneunforn\, 8526
END:VEVENT
BEGIN:VEVENT
DTSTART;TZID=Europe/Zurich:20191217T140000
DTEND;TZID=Europe/Zurich:20191217T160000
DTSTAMP:20260422T215952
CREATED:20190327T082244Z
LAST-MODIFIED:20190327T082244Z
UID:6863-1576591200-1576598400@www.neunforn.ch
SUMMARY:Mütter- und Väterberatung
DESCRIPTION:Jeden 3. Dienstag im Monat mit Anmeldung
URL:https://www.neunforn.ch/veranstaltung/muetter-und-vaeterberatung-2-2-3-2-2-2-2/
LOCATION:Kirchgemeindehaus\, Kirchgasse 4b\, Oberneunforn\, 8526
ORGANIZER;CN="Perspektive Thurgau":MAILTO:mvb-frauenfeld@perspektive-tg.ch
END:VEVENT
BEGIN:VEVENT
DTSTART;TZID=Europe/Zurich:20191218T190000
DTEND;TZID=Europe/Zurich:20191218T190000
DTSTAMP:20260422T215952
CREATED:20190625T135030Z
LAST-MODIFIED:20190625T135030Z
UID:7194-1576695600-1576695600@www.neunforn.ch
SUMMARY:Konzert mit mittelalterlicher Musik
DESCRIPTION:
URL:https://www.neunforn.ch/veranstaltung/konzert-mit-mittelalterlicher-musik/
LOCATION:Evang. Kirche\, Kirchgasse\, Oberneunforn\, 8526
END:VEVENT
BEGIN:VEVENT
DTSTART;TZID=Europe/Zurich:20191219T090000
DTEND;TZID=Europe/Zurich:20191219T090000
DTSTAMP:20260422T215952
CREATED:20190617T093421Z
LAST-MODIFIED:20190617T093421Z
UID:7163-1576746000-1576746000@www.neunforn.ch
SUMMARY:Wanderung "Zürcher Weinland"
DESCRIPTION:Treffpunkt: 09.00 Restaurant „Thalacker“\, Ossingen\nWanderungen:\nVariante Gross: Andelfingen – Goldenberg – Henggart\n2 h; Distanz: 8 km; Aufstieg: 110 m; Abstieg: 170 m\nVariante Klein: Andelfingen – Sonnenhof – Henggart\n1:25 h; Distanz: 4 km; keine nennenswerte Auf- und Abstiege\nMittagessen: im Restaurant „Bahnhof“\, Henggart \nAnmeldung beide Var. an: Wanderleiterin Anni Meier Tel. 052 745 24 24 oder Mail anni.meier@hotmail.ch\nbis Mittwoch 12.00 Uhr
URL:https://www.neunforn.ch/veranstaltung/wanderung-zuercher-weinland/
LOCATION:Restaurant Thalacker\, Ossingen
ORGANIZER;CN="Senioren Wandergruppe_Meier":MAILTO:anni.meier@hotmail.ch
END:VEVENT
BEGIN:VEVENT
DTSTART;VALUE=DATE:20191224
DTEND;VALUE=DATE:20200104
DTSTAMP:20260422T215952
CREATED:20191216T122618Z
LAST-MODIFIED:20191216T122618Z
UID:7421-1577145600-1578095999@www.neunforn.ch
SUMMARY:Gemeindeverwaltung geschlossen
DESCRIPTION:Die Gemeindeverwaltung Neunforn bleibt vom 24. Dezember 2019 bis und mit 3. Januar 2020 geschlossen. \nWir danken Ihnen für das Verständnis und wünschen Ihnen frohe Festtage und einen guten Rutsch ins neue Jahr!
URL:https://www.neunforn.ch/veranstaltung/gemeindeverwaltung-geschlossen/
END:VEVENT
END:VCALENDAR